BEGIN:VCALENDAR
VERSION:2.0
PRODID:-//De Rooij Fotografie - ECPv6.15.20//NONSGML v1.0//EN
CALSCALE:GREGORIAN
METHOD:PUBLISH
X-WR-CALNAME:De Rooij Fotografie
X-ORIGINAL-URL:https://www.derooijfotografie.nl
X-WR-CALDESC:Evenementen voor De Rooij Fotografie
REFRESH-INTERVAL;VALUE=DURATION:PT1H
X-Robots-Tag:noindex
X-PUBLISHED-TTL:PT1H
BEGIN:VTIMEZONE
TZID:Europe/Amsterdam
BEGIN:DAYLIGHT
TZOFFSETFROM:+0100
TZOFFSETTO:+0200
TZNAME:CEST
DTSTART:20250330T010000
END:DAYLIGHT
BEGIN:STANDARD
TZOFFSETFROM:+0200
TZOFFSETTO:+0100
TZNAME:CET
DTSTART:20251026T010000
END:STANDARD
BEGIN:DAYLIGHT
TZOFFSETFROM:+0100
TZOFFSETTO:+0200
TZNAME:CEST
DTSTART:20260329T010000
END:DAYLIGHT
BEGIN:STANDARD
TZOFFSETFROM:+0200
TZOFFSETTO:+0100
TZNAME:CET
DTSTART:20261025T010000
END:STANDARD
BEGIN:DAYLIGHT
TZOFFSETFROM:+0100
TZOFFSETTO:+0200
TZNAME:CEST
DTSTART:20270328T010000
END:DAYLIGHT
BEGIN:STANDARD
TZOFFSETFROM:+0200
TZOFFSETTO:+0100
TZNAME:CET
DTSTART:20271031T010000
END:STANDARD
END:VTIMEZONE
BEGIN:VEVENT
DTSTART;TZID=Europe/Amsterdam:20260530T184500
DTEND;TZID=Europe/Amsterdam:20260530T221500
DTSTAMP:20260425T230512
CREATED:20250213T055228Z
LAST-MODIFIED:20260312T152600Z
UID:10002221-1780166700-1780179300@www.derooijfotografie.nl
SUMMARY:Workshop Landschapsfotografie - Kinderdijk
DESCRIPTION:Volg onze workshop landschapsfotografie en ontdek alle geheimen van dit bijzonder mooie fotografie genre.
URL:https://www.derooijfotografie.nl/activiteit/workshop-landschapsfotografie-kinderdijk/2026-05-30/
LOCATION:Molenkade in Kinderdijk\, Zuid-Holland\, Nederland
CATEGORIES:Workshops – In de natuur
ATTACH;FMTTYPE=image/jpeg:https://www.derooijfotografie.nl/wp-content/uploads/2023/06/workshop-landschapsfotografie-woudrichem.jpg
GEO:51.875902526305;4.6373275133826
END:VEVENT
END:VCALENDAR