BEGIN:VCALENDAR
VERSION:2.0
PRODID:-//De Rooij Fotografie - ECPv6.15.20//NONSGML v1.0//EN
CALSCALE:GREGORIAN
METHOD:PUBLISH
X-WR-CALNAME:De Rooij Fotografie
X-ORIGINAL-URL:https://www.derooijfotografie.nl
X-WR-CALDESC:Evenementen voor De Rooij Fotografie
REFRESH-INTERVAL;VALUE=DURATION:PT1H
X-Robots-Tag:noindex
X-PUBLISHED-TTL:PT1H
BEGIN:VTIMEZONE
TZID:Europe/Amsterdam
BEGIN:DAYLIGHT
TZOFFSETFROM:+0100
TZOFFSETTO:+0200
TZNAME:CEST
DTSTART:20250330T010000
END:DAYLIGHT
BEGIN:STANDARD
TZOFFSETFROM:+0200
TZOFFSETTO:+0100
TZNAME:CET
DTSTART:20251026T010000
END:STANDARD
BEGIN:DAYLIGHT
TZOFFSETFROM:+0100
TZOFFSETTO:+0200
TZNAME:CEST
DTSTART:20260329T010000
END:DAYLIGHT
BEGIN:STANDARD
TZOFFSETFROM:+0200
TZOFFSETTO:+0100
TZNAME:CET
DTSTART:20261025T010000
END:STANDARD
BEGIN:DAYLIGHT
TZOFFSETFROM:+0100
TZOFFSETTO:+0200
TZNAME:CEST
DTSTART:20270328T010000
END:DAYLIGHT
BEGIN:STANDARD
TZOFFSETFROM:+0200
TZOFFSETTO:+0100
TZNAME:CET
DTSTART:20271031T010000
END:STANDARD
END:VTIMEZONE
BEGIN:VEVENT
DTSTART;TZID=Europe/Amsterdam:20260516T100000
DTEND;TZID=Europe/Amsterdam:20260516T160000
DTSTAMP:20260425T185436
CREATED:20250722T131357Z
LAST-MODIFIED:20260319T145748Z
UID:10002231-1778925600-1778947200@www.derooijfotografie.nl
SUMMARY:Workshop Studiofotografie
DESCRIPTION:Deze workshop studiofotografie gaat helemaal over het maken van mooie studiofoto’s. Dit is de ideale workshop voor iedereen die meer wil leren over het fotograferen van mensen met behulp van studiolampen. Er geldt een maximum van acht deelnemers zodat er veel persoonlijke aandacht is en iedereen voldoende tijd heeft om te fotograferen.
URL:https://www.derooijfotografie.nl/activiteit/workshop-studiofotografie-3/2026-05-16/
LOCATION:Gildeweg in Nootdorp\, Zuid-Holland\, Nederland
CATEGORIES:Workshops - Mensen
ATTACH;FMTTYPE=image/jpeg:https://www.derooijfotografie.nl/wp-content/uploads/2021/06/workshop-studiofotografie.jpg
GEO:52.05156;4.4065
END:VEVENT
END:VCALENDAR