BEGIN:VCALENDAR
VERSION:2.0
PRODID:-//De Rooij Fotografie - ECPv6.15.20//NONSGML v1.0//EN
CALSCALE:GREGORIAN
METHOD:PUBLISH
X-WR-CALNAME:De Rooij Fotografie
X-ORIGINAL-URL:https://www.derooijfotografie.nl
X-WR-CALDESC:Evenementen voor De Rooij Fotografie
REFRESH-INTERVAL;VALUE=DURATION:PT1H
X-Robots-Tag:noindex
X-PUBLISHED-TTL:PT1H
BEGIN:VTIMEZONE
TZID:Europe/Amsterdam
BEGIN:DAYLIGHT
TZOFFSETFROM:+0100
TZOFFSETTO:+0200
TZNAME:CEST
DTSTART:20250330T010000
END:DAYLIGHT
BEGIN:STANDARD
TZOFFSETFROM:+0200
TZOFFSETTO:+0100
TZNAME:CET
DTSTART:20251026T010000
END:STANDARD
BEGIN:DAYLIGHT
TZOFFSETFROM:+0100
TZOFFSETTO:+0200
TZNAME:CEST
DTSTART:20260329T010000
END:DAYLIGHT
BEGIN:STANDARD
TZOFFSETFROM:+0200
TZOFFSETTO:+0100
TZNAME:CET
DTSTART:20261025T010000
END:STANDARD
BEGIN:DAYLIGHT
TZOFFSETFROM:+0100
TZOFFSETTO:+0200
TZNAME:CEST
DTSTART:20270328T010000
END:DAYLIGHT
BEGIN:STANDARD
TZOFFSETFROM:+0200
TZOFFSETTO:+0100
TZNAME:CET
DTSTART:20271031T010000
END:STANDARD
END:VTIMEZONE
BEGIN:VEVENT
DTSTART;TZID=Europe/Amsterdam:20260912T130000
DTEND;TZID=Europe/Amsterdam:20260912T163000
DTSTAMP:20260426T054052
CREATED:20240806T074331Z
LAST-MODIFIED:20260415T180136Z
UID:10002263-1789218000-1789230600@www.derooijfotografie.nl
SUMMARY:Workshop Architectuurfotografie in Brugge
DESCRIPTION:Leer de fijne kneepjes van architectuurfotografie in de historische stad Brugge\, waar we ook de nodige moderne architectuur zullen fotograferen.
URL:https://www.derooijfotografie.nl/activiteit/workshop-architectuurfotografie-brugge/2026-09-12/
LOCATION:Concertgebouw ‘t Zand in Brugge\, West-Vlaanderen\, België
CATEGORIES:Workshops – In de stad
ATTACH;FMTTYPE=image/jpeg:https://www.derooijfotografie.nl/wp-content/uploads/2024/08/workshop-architectuurfotografie-brugge-bjorn-vandekerckhove.jpg
GEO:51.204184;3.218412
END:VEVENT
END:VCALENDAR