BEGIN:VCALENDAR
VERSION:2.0
PRODID:-//De Rooij Fotografie - ECPv6.15.20//NONSGML v1.0//EN
CALSCALE:GREGORIAN
METHOD:PUBLISH
X-WR-CALNAME:De Rooij Fotografie
X-ORIGINAL-URL:https://www.derooijfotografie.nl
X-WR-CALDESC:Evenementen voor De Rooij Fotografie
REFRESH-INTERVAL;VALUE=DURATION:PT1H
X-Robots-Tag:noindex
X-PUBLISHED-TTL:PT1H
BEGIN:VTIMEZONE
TZID:Europe/Amsterdam
BEGIN:DAYLIGHT
TZOFFSETFROM:+0100
TZOFFSETTO:+0200
TZNAME:CEST
DTSTART:20250330T010000
END:DAYLIGHT
BEGIN:STANDARD
TZOFFSETFROM:+0200
TZOFFSETTO:+0100
TZNAME:CET
DTSTART:20251026T010000
END:STANDARD
BEGIN:DAYLIGHT
TZOFFSETFROM:+0100
TZOFFSETTO:+0200
TZNAME:CEST
DTSTART:20260329T010000
END:DAYLIGHT
BEGIN:STANDARD
TZOFFSETFROM:+0200
TZOFFSETTO:+0100
TZNAME:CET
DTSTART:20261025T010000
END:STANDARD
BEGIN:DAYLIGHT
TZOFFSETFROM:+0100
TZOFFSETTO:+0200
TZNAME:CEST
DTSTART:20270328T010000
END:DAYLIGHT
BEGIN:STANDARD
TZOFFSETFROM:+0200
TZOFFSETTO:+0100
TZNAME:CET
DTSTART:20271031T010000
END:STANDARD
END:VTIMEZONE
BEGIN:VEVENT
DTSTART;TZID=Europe/Amsterdam:20260926T160000
DTEND;TZID=Europe/Amsterdam:20260926T200000
DTSTAMP:20260426T043309
CREATED:20250619T092310Z
LAST-MODIFIED:20260302T090026Z
UID:10002196-1790438400-1790452800@www.derooijfotografie.nl
SUMMARY:Workshop landschapsfotografie: Fotograferen met een filtersysteem
DESCRIPTION:Ontdek de fijne kneepjes van landschapsfotografie met filters in dit natuurgebied bij de grens van Nederland en België.
URL:https://www.derooijfotografie.nl/activiteit/workshop-landschapsfotografie-fotograferen-met-filters/2026-09-26/
LOCATION:Verbindingsstraat in Kalmthout\, Belgium
CATEGORIES:Workshops – In de natuur
ATTACH;FMTTYPE=image/jpeg:https://www.derooijfotografie.nl/wp-content/uploads/2025/07/thumbnail-workshop-landschapsfotografie-filtersysteem.jpg
GEO:51.411411;4.429107
END:VEVENT
END:VCALENDAR