BEGIN:VCALENDAR
VERSION:2.0
PRODID:-//De Rooij Fotografie - ECPv6.15.20//NONSGML v1.0//EN
CALSCALE:GREGORIAN
METHOD:PUBLISH
X-WR-CALNAME:De Rooij Fotografie
X-ORIGINAL-URL:https://www.derooijfotografie.nl
X-WR-CALDESC:Evenementen voor De Rooij Fotografie
REFRESH-INTERVAL;VALUE=DURATION:PT1H
X-Robots-Tag:noindex
X-PUBLISHED-TTL:PT1H
BEGIN:VTIMEZONE
TZID:Europe/Amsterdam
BEGIN:DAYLIGHT
TZOFFSETFROM:+0100
TZOFFSETTO:+0200
TZNAME:CEST
DTSTART:20250330T010000
END:DAYLIGHT
BEGIN:STANDARD
TZOFFSETFROM:+0200
TZOFFSETTO:+0100
TZNAME:CET
DTSTART:20251026T010000
END:STANDARD
BEGIN:DAYLIGHT
TZOFFSETFROM:+0100
TZOFFSETTO:+0200
TZNAME:CEST
DTSTART:20260329T010000
END:DAYLIGHT
BEGIN:STANDARD
TZOFFSETFROM:+0200
TZOFFSETTO:+0100
TZNAME:CET
DTSTART:20261025T010000
END:STANDARD
BEGIN:DAYLIGHT
TZOFFSETFROM:+0100
TZOFFSETTO:+0200
TZNAME:CEST
DTSTART:20270328T010000
END:DAYLIGHT
BEGIN:STANDARD
TZOFFSETFROM:+0200
TZOFFSETTO:+0100
TZNAME:CET
DTSTART:20271031T010000
END:STANDARD
END:VTIMEZONE
BEGIN:VEVENT
DTSTART;TZID=Europe/Amsterdam:20260719T100000
DTEND;TZID=Europe/Amsterdam:20260719T160000
DTSTAMP:20260425T173313
CREATED:20230613T144816Z
LAST-MODIFIED:20260401T192704Z
UID:10002250-1784455200-1784476800@www.derooijfotografie.nl
SUMMARY:Masterclass Beauty- & Fashionfotografie
DESCRIPTION:Deze masterclass Beauty- en Fashionfotografie gaat helemaal over het mooi vastleggen van kleding en cosmetica. Dit is de ideale workshop voor iedereen die fashion style wil toevoegen aan portretshoots\, of commercieel kleding\, cosmetica of sieraden wil fotograferen met modellen. Er geldt een maximum van acht deelnemers zodat er veel persoonlijke aandacht is en iedereen voldoende tijd heeft om te fotograferen.
URL:https://www.derooijfotografie.nl/activiteit/masterclass-beauty-fashionfotografie/2026-07-19/
LOCATION:Gildeweg in Nootdorp\, Zuid-Holland\, Nederland
CATEGORIES:Workshops - Mensen
ATTACH;FMTTYPE=image/jpeg:https://www.derooijfotografie.nl/wp-content/uploads/2023/05/masterclass-beautyfotografie-fashionfotografie-ymke-myrte.jpg
GEO:52.05156;4.4065
END:VEVENT
END:VCALENDAR