BEGIN:VCALENDAR
VERSION:2.0
PRODID:-//De Rooij Fotografie - ECPv6.15.20//NONSGML v1.0//EN
CALSCALE:GREGORIAN
METHOD:PUBLISH
X-WR-CALNAME:De Rooij Fotografie
X-ORIGINAL-URL:https://www.derooijfotografie.nl
X-WR-CALDESC:Evenementen voor De Rooij Fotografie
REFRESH-INTERVAL;VALUE=DURATION:PT1H
X-Robots-Tag:noindex
X-PUBLISHED-TTL:PT1H
BEGIN:VTIMEZONE
TZID:Europe/Amsterdam
BEGIN:DAYLIGHT
TZOFFSETFROM:+0100
TZOFFSETTO:+0200
TZNAME:CEST
DTSTART:20250330T010000
END:DAYLIGHT
BEGIN:STANDARD
TZOFFSETFROM:+0200
TZOFFSETTO:+0100
TZNAME:CET
DTSTART:20251026T010000
END:STANDARD
BEGIN:DAYLIGHT
TZOFFSETFROM:+0100
TZOFFSETTO:+0200
TZNAME:CEST
DTSTART:20260329T010000
END:DAYLIGHT
BEGIN:STANDARD
TZOFFSETFROM:+0200
TZOFFSETTO:+0100
TZNAME:CET
DTSTART:20261025T010000
END:STANDARD
BEGIN:DAYLIGHT
TZOFFSETFROM:+0100
TZOFFSETTO:+0200
TZNAME:CEST
DTSTART:20270328T010000
END:DAYLIGHT
BEGIN:STANDARD
TZOFFSETFROM:+0200
TZOFFSETTO:+0100
TZNAME:CET
DTSTART:20271031T010000
END:STANDARD
END:VTIMEZONE
BEGIN:VEVENT
DTSTART;TZID=Europe/Amsterdam:20260502T100000
DTEND;TZID=Europe/Amsterdam:20260502T130000
DTSTAMP:20260425T173313
CREATED:20240715T110812Z
LAST-MODIFIED:20260317T115107Z
UID:10002228-1777716000-1777726800@www.derooijfotografie.nl
SUMMARY:Workshop Macrofotografie in het Wildrijk Bos (Sint Maartensvlotbrug)
DESCRIPTION:Macrofotografie is een bijzondere tak binnen de fotografie waarbij verbazingwekkende foto’s gemaakt kunnen worden. Je gaat dingen zien die je normaal helemaal niet ziet en dat maakt een macrofoto zo bijzonder.
URL:https://www.derooijfotografie.nl/activiteit/workshop-macrofotografie-wildrijk/2026-05-02/
LOCATION:Parkeerplaats Sint Maartensvlotbrug\, Noord-Holland
CATEGORIES:Workshops – In de natuur
ATTACH;FMTTYPE=image/jpeg:https://www.derooijfotografie.nl/wp-content/uploads/2024/07/workshop-macrofotografie-francis-meinster.jpg
GEO:52.787129701372;4.704138225319
END:VEVENT
END:VCALENDAR