BEGIN:VCALENDAR
VERSION:2.0
PRODID:-//De Rooij Fotografie - ECPv6.15.20//NONSGML v1.0//EN
CALSCALE:GREGORIAN
METHOD:PUBLISH
X-WR-CALNAME:De Rooij Fotografie
X-ORIGINAL-URL:https://www.derooijfotografie.nl
X-WR-CALDESC:Evenementen voor De Rooij Fotografie
REFRESH-INTERVAL;VALUE=DURATION:PT1H
X-Robots-Tag:noindex
X-PUBLISHED-TTL:PT1H
BEGIN:VTIMEZONE
TZID:Europe/Amsterdam
BEGIN:DAYLIGHT
TZOFFSETFROM:+0100
TZOFFSETTO:+0200
TZNAME:CEST
DTSTART:20250330T010000
END:DAYLIGHT
BEGIN:STANDARD
TZOFFSETFROM:+0200
TZOFFSETTO:+0100
TZNAME:CET
DTSTART:20251026T010000
END:STANDARD
BEGIN:DAYLIGHT
TZOFFSETFROM:+0100
TZOFFSETTO:+0200
TZNAME:CEST
DTSTART:20260329T010000
END:DAYLIGHT
BEGIN:STANDARD
TZOFFSETFROM:+0200
TZOFFSETTO:+0100
TZNAME:CET
DTSTART:20261025T010000
END:STANDARD
BEGIN:DAYLIGHT
TZOFFSETFROM:+0100
TZOFFSETTO:+0200
TZNAME:CEST
DTSTART:20270328T010000
END:DAYLIGHT
BEGIN:STANDARD
TZOFFSETFROM:+0200
TZOFFSETTO:+0100
TZNAME:CET
DTSTART:20271031T010000
END:STANDARD
END:VTIMEZONE
BEGIN:VEVENT
DTSTART;TZID=Europe/Amsterdam:20260509T100000
DTEND;TZID=Europe/Amsterdam:20260509T160000
DTSTAMP:20260425T202348
CREATED:20230510T102639Z
LAST-MODIFIED:20260114T191925Z
UID:10002089-1778320800-1778342400@www.derooijfotografie.nl
SUMMARY:Basiscursus Fotografie in Amsterdam
DESCRIPTION:Ontdek de mogelijkheden van je eigen camera en de basis van fotografie. Je leert alles over diafragma\, sluitertijd\, ISO-waarde\, scherpstellen en andere belangrijke functies. Deze les zal gegeven worden door onze docent: Jan Knol
URL:https://www.derooijfotografie.nl/activiteit/basiscursus-fotografie-in-amsterdam-jan/2026-05-09/
LOCATION:De Wittenstraat in Amsterdam\, Noord-Holland\, Nederland
CATEGORIES:Basiscursus Fotografie
ATTACH;FMTTYPE=image/jpeg:https://www.derooijfotografie.nl/wp-content/uploads/2020/01/basiscursus-fotografie.jpg
GEO:52.382607991439;4.8774482049525
END:VEVENT
BEGIN:VEVENT
DTSTART;TZID=Europe/Amsterdam:20260627T100000
DTEND;TZID=Europe/Amsterdam:20260627T160000
DTSTAMP:20260425T202348
CREATED:20230921T083732Z
LAST-MODIFIED:20260331T082119Z
UID:10002163-1782554400-1782576000@www.derooijfotografie.nl
SUMMARY:Basiscursus Fotografie in Amsterdam
DESCRIPTION:Ontdek de mogelijkheden van je eigen camera en de basis van fotografie. Je leert alles over diafragma\, sluitertijd\, ISO-waarde\, scherpstellen en andere belangrijke functies. Deze les zal gegeven worden door onze docent: Matthijs Uivel
URL:https://www.derooijfotografie.nl/activiteit/basiscursus-fotografie-in-amsterdam-matthijs/2026-06-27/
LOCATION:Piet heinkade in Amsterdam\, Noord-Holland\, Nederland
CATEGORIES:Basiscursus Fotografie
ATTACH;FMTTYPE=image/jpeg:https://www.derooijfotografie.nl/wp-content/uploads/2020/03/online-fotografie-cursus-basis.jpg
GEO:52.375452808929;4.9286996534294
END:VEVENT
BEGIN:VEVENT
DTSTART;TZID=Europe/Amsterdam:20260822T100000
DTEND;TZID=Europe/Amsterdam:20260822T160000
DTSTAMP:20260425T202348
CREATED:20230921T083732Z
LAST-MODIFIED:20260331T082119Z
UID:10002240-1787392800-1787414400@www.derooijfotografie.nl
SUMMARY:Basiscursus Fotografie in Amsterdam
DESCRIPTION:Ontdek de mogelijkheden van je eigen camera en de basis van fotografie. Je leert alles over diafragma\, sluitertijd\, ISO-waarde\, scherpstellen en andere belangrijke functies. Deze les zal gegeven worden door onze docent: Matthijs Uivel
URL:https://www.derooijfotografie.nl/activiteit/basiscursus-fotografie-in-amsterdam-matthijs/2026-08-22/
LOCATION:Piet heinkade in Amsterdam\, Noord-Holland\, Nederland
CATEGORIES:Basiscursus Fotografie
ATTACH;FMTTYPE=image/jpeg:https://www.derooijfotografie.nl/wp-content/uploads/2020/03/online-fotografie-cursus-basis.jpg
GEO:52.375452808929;4.9286996534294
END:VEVENT
BEGIN:VEVENT
DTSTART;TZID=Europe/Amsterdam:20260919T100000
DTEND;TZID=Europe/Amsterdam:20260919T160000
DTSTAMP:20260425T202348
CREATED:20230921T083732Z
LAST-MODIFIED:20260331T082119Z
UID:10002241-1789812000-1789833600@www.derooijfotografie.nl
SUMMARY:Basiscursus Fotografie in Amsterdam
DESCRIPTION:Ontdek de mogelijkheden van je eigen camera en de basis van fotografie. Je leert alles over diafragma\, sluitertijd\, ISO-waarde\, scherpstellen en andere belangrijke functies. Deze les zal gegeven worden door onze docent: Matthijs Uivel
URL:https://www.derooijfotografie.nl/activiteit/basiscursus-fotografie-in-amsterdam-matthijs/2026-09-19/
LOCATION:Piet heinkade in Amsterdam\, Noord-Holland\, Nederland
CATEGORIES:Basiscursus Fotografie
ATTACH;FMTTYPE=image/jpeg:https://www.derooijfotografie.nl/wp-content/uploads/2020/03/online-fotografie-cursus-basis.jpg
GEO:52.375452808929;4.9286996534294
END:VEVENT
END:VCALENDAR