BEGIN:VCALENDAR
VERSION:2.0
PRODID:-//De Rooij Fotografie - ECPv6.15.20//NONSGML v1.0//EN
CALSCALE:GREGORIAN
METHOD:PUBLISH
X-WR-CALNAME:De Rooij Fotografie
X-ORIGINAL-URL:https://www.derooijfotografie.nl
X-WR-CALDESC:Evenementen voor De Rooij Fotografie
REFRESH-INTERVAL;VALUE=DURATION:PT1H
X-Robots-Tag:noindex
X-PUBLISHED-TTL:PT1H
BEGIN:VTIMEZONE
TZID:Europe/Amsterdam
BEGIN:DAYLIGHT
TZOFFSETFROM:+0100
TZOFFSETTO:+0200
TZNAME:CEST
DTSTART:20250330T010000
END:DAYLIGHT
BEGIN:STANDARD
TZOFFSETFROM:+0200
TZOFFSETTO:+0100
TZNAME:CET
DTSTART:20251026T010000
END:STANDARD
BEGIN:DAYLIGHT
TZOFFSETFROM:+0100
TZOFFSETTO:+0200
TZNAME:CEST
DTSTART:20260329T010000
END:DAYLIGHT
BEGIN:STANDARD
TZOFFSETFROM:+0200
TZOFFSETTO:+0100
TZNAME:CET
DTSTART:20261025T010000
END:STANDARD
BEGIN:DAYLIGHT
TZOFFSETFROM:+0100
TZOFFSETTO:+0200
TZNAME:CEST
DTSTART:20270328T010000
END:DAYLIGHT
BEGIN:STANDARD
TZOFFSETFROM:+0200
TZOFFSETTO:+0100
TZNAME:CET
DTSTART:20271031T010000
END:STANDARD
END:VTIMEZONE
BEGIN:VEVENT
DTSTART;TZID=Europe/Amsterdam:20260509T100000
DTEND;TZID=Europe/Amsterdam:20260509T160000
DTSTAMP:20260425T173221
CREATED:20250722T131346Z
LAST-MODIFIED:20260402T151205Z
UID:10002252-1778320800-1778342400@www.derooijfotografie.nl
SUMMARY:Masterclass Creatieve Studiofotografie
DESCRIPTION:Bij deze masterclass leer je alles over de geavanceerde\, creatieve technieken van studiofotografie.
URL:https://www.derooijfotografie.nl/activiteit/masterclass-creatieve-studiotechnieken-2/2026-05-09/
LOCATION:Gildeweg in Nootdorp\, Zuid-Holland\, Nederland
CATEGORIES:Workshops - Mensen
ATTACH;FMTTYPE=image/jpeg:https://www.derooijfotografie.nl/wp-content/uploads/2021/11/workshop-creatieve-studiofotografie.jpg
GEO:52.05156;4.4065
END:VEVENT
BEGIN:VEVENT
DTSTART;TZID=Europe/Amsterdam:20260905T100000
DTEND;TZID=Europe/Amsterdam:20260905T160000
DTSTAMP:20260425T173221
CREATED:20250722T131346Z
LAST-MODIFIED:20260402T151205Z
UID:10002253-1788602400-1788624000@www.derooijfotografie.nl
SUMMARY:Masterclass Creatieve Studiofotografie
DESCRIPTION:Bij deze masterclass leer je alles over de geavanceerde\, creatieve technieken van studiofotografie.
URL:https://www.derooijfotografie.nl/activiteit/masterclass-creatieve-studiotechnieken-2/2026-09-05/
LOCATION:Gildeweg in Nootdorp\, Zuid-Holland\, Nederland
CATEGORIES:Workshops - Mensen
ATTACH;FMTTYPE=image/jpeg:https://www.derooijfotografie.nl/wp-content/uploads/2021/11/workshop-creatieve-studiofotografie.jpg
GEO:52.05156;4.4065
END:VEVENT
END:VCALENDAR