BEGIN:VCALENDAR
VERSION:2.0
PRODID:-//De Rooij Fotografie - ECPv6.15.20//NONSGML v1.0//EN
CALSCALE:GREGORIAN
METHOD:PUBLISH
X-WR-CALNAME:De Rooij Fotografie
X-ORIGINAL-URL:https://www.derooijfotografie.nl
X-WR-CALDESC:Evenementen voor De Rooij Fotografie
REFRESH-INTERVAL;VALUE=DURATION:PT1H
X-Robots-Tag:noindex
X-PUBLISHED-TTL:PT1H
BEGIN:VTIMEZONE
TZID:Europe/Amsterdam
BEGIN:DAYLIGHT
TZOFFSETFROM:+0100
TZOFFSETTO:+0200
TZNAME:CEST
DTSTART:20250330T010000
END:DAYLIGHT
BEGIN:STANDARD
TZOFFSETFROM:+0200
TZOFFSETTO:+0100
TZNAME:CET
DTSTART:20251026T010000
END:STANDARD
BEGIN:DAYLIGHT
TZOFFSETFROM:+0100
TZOFFSETTO:+0200
TZNAME:CEST
DTSTART:20260329T010000
END:DAYLIGHT
BEGIN:STANDARD
TZOFFSETFROM:+0200
TZOFFSETTO:+0100
TZNAME:CET
DTSTART:20261025T010000
END:STANDARD
BEGIN:DAYLIGHT
TZOFFSETFROM:+0100
TZOFFSETTO:+0200
TZNAME:CEST
DTSTART:20270328T010000
END:DAYLIGHT
BEGIN:STANDARD
TZOFFSETFROM:+0200
TZOFFSETTO:+0100
TZNAME:CET
DTSTART:20271031T010000
END:STANDARD
END:VTIMEZONE
BEGIN:VEVENT
DTSTART;TZID=Europe/Amsterdam:20260426T070000
DTEND;TZID=Europe/Amsterdam:20260426T100000
DTSTAMP:20260425T173245
CREATED:20260213T132550Z
LAST-MODIFIED:20260316T135036Z
UID:10002227-1777186800-1777197600@www.derooijfotografie.nl
SUMMARY:Workshop Vogelfotografie - Biesbosch
DESCRIPTION:Vogelfotografie is een bijzondere tak binnen de fotografie waarbij verbazingwekkende foto’s gemaakt kunnen worden. Laat je verrassen door de diversiteit aan vogels in de Biesbosch.
URL:https://www.derooijfotografie.nl/activiteit/workshop-vogelfotografie-biesbosch-2/2026-04-26/
LOCATION:Parkeerplaats Biesbosch Museumeiland\, Noord-Brabant\, Nederland
CATEGORIES:Workshops – In de natuur
ATTACH;FMTTYPE=image/jpeg:https://www.derooijfotografie.nl/wp-content/uploads/2026/02/workshop-vogelfotografie-rosalie.jpg
GEO:51.76559864805;4.7726524584332
END:VEVENT
BEGIN:VEVENT
DTSTART;TZID=Europe/Amsterdam:20260530T060000
DTEND;TZID=Europe/Amsterdam:20260530T101500
DTSTAMP:20260425T173245
CREATED:20260213T132310Z
LAST-MODIFIED:20260327T125334Z
UID:10002237-1780120800-1780136100@www.derooijfotografie.nl
SUMMARY:Workshop Vogelfotografie - Biesbosch - per sloep
DESCRIPTION:Vogelfotografie is een bijzondere tak binnen de fotografie waarbij verbazingwekkende foto’s gemaakt kunnen worden. Laat je verrassen door de diversiteit aan vogels in de Biesbosch en beleef dit op een unieke manier\, namelijk per sloep.
URL:https://www.derooijfotografie.nl/activiteit/workshop-vogelfotografie-biesbosch-per-sloep-2/2026-05-30/
LOCATION:Restaurant Ford Lunet Biesbosch\, Gelderland\, Nederland
CATEGORIES:Workshops – In de natuur
ATTACH;FMTTYPE=image/jpeg:https://www.derooijfotografie.nl/wp-content/uploads/2026/02/workshop-vogelfotografie-rosalie.jpg
GEO:51.70149;4.86824
END:VEVENT
END:VCALENDAR